BEGIN:VCALENDAR
VERSION:2.0
PRODID:-//www.thearcofsomerset.org//NONSGML kigkonsult.se iCalcreator 2.30.
 10//
CALSCALE:GREGORIAN
METHOD:PUBLISH
UID:0722213a-e61b-4cf2-9bae-b4c7ff1a4cfb
X-WR-CALDESC:
X-WR-RELCALID:644157fbabc806c59db37dfa38dbf57e
X-WR-TIMEZONE:America/New_York
BEGIN:VTIMEZONE
TZID:America/New_York
BEGIN:STANDARD
TZNAME:EST
DTSTART:20201101T020000
TZOFFSETFROM:-0400
TZOFFSETTO:-0500
RDATE:20211107T020000
RDATE:20221106T020000
END:STANDARD
BEGIN:DAYLIGHT
TZNAME:EDT
DTSTART:20210314T020000
TZOFFSETFROM:-0500
TZOFFSETTO:-0400
RDATE:20220313T020000
END:DAYLIGHT
END:VTIMEZONE
BEGIN:VEVENT
UID:50d1e3cc-7440-42b1-87ae-638452cdc511
DTSTAMP:20260425T205101Z
DESCRIPTION:
DTSTART;TZID=America/New_York:20210630T153000
DTEND;TZID=America/New_York:20210630T160000
LOCATION:
SUMMARY:“Shooting the Breeze with Friends”
END:VEVENT
END:VCALENDAR
