BEGIN:VCALENDAR
VERSION:2.0
PRODID:-//www.thearcofsomerset.org//NONSGML kigkonsult.se iCalcreator 2.30.
 10//
CALSCALE:GREGORIAN
METHOD:PUBLISH
UID:11ef5455-f440-496f-94b1-e30bc7df680d
X-WR-CALDESC:
X-WR-RELCALID:c7924d8049a340ed5b15ef6172437718
X-WR-TIMEZONE:America/New_York
BEGIN:VTIMEZONE
TZID:America/New_York
BEGIN:STANDARD
TZNAME:EST
DTSTART:20201101T020000
TZOFFSETFROM:-0400
TZOFFSETTO:-0500
RDATE:20211107T020000
RDATE:20221106T020000
END:STANDARD
BEGIN:DAYLIGHT
TZNAME:EDT
DTSTART:20210314T020000
TZOFFSETFROM:-0500
TZOFFSETTO:-0400
RDATE:20220313T020000
END:DAYLIGHT
END:VTIMEZONE
BEGIN:VEVENT
UID:e8abada7-8904-49dd-af9a-ea09034d4d8d
DTSTAMP:20260425T204652Z
DESCRIPTION:
DTSTART;TZID=America/New_York:20210630T111500
DTEND;TZID=America/New_York:20210630T114500
LOCATION:
SUMMARY:Literacy class – all welcome!
END:VEVENT
END:VCALENDAR
