BEGIN:VCALENDAR
VERSION:2.0
PRODID:-//www.thearcofsomerset.org//NONSGML kigkonsult.se iCalcreator 2.30.
 10//
CALSCALE:GREGORIAN
METHOD:PUBLISH
UID:96d3ac7e-df2c-4e2a-8e29-bf70c5163ca3
X-WR-CALDESC:
X-WR-RELCALID:ef964852cf5bc8648c5a5185ec246ed8
X-WR-TIMEZONE:America/New_York
BEGIN:VTIMEZONE
TZID:America/New_York
BEGIN:STANDARD
TZNAME:EST
DTSTART:20201101T020000
TZOFFSETFROM:-0400
TZOFFSETTO:-0500
RDATE:20211107T020000
RDATE:20221106T020000
END:STANDARD
BEGIN:DAYLIGHT
TZNAME:EDT
DTSTART:20210314T020000
TZOFFSETFROM:-0500
TZOFFSETTO:-0400
RDATE:20220313T020000
END:DAYLIGHT
END:VTIMEZONE
BEGIN:VEVENT
UID:c3e08a92-9dde-4c60-865e-5e569cecdcea
DTSTAMP:20260425T190822Z
DESCRIPTION:
DTSTART;TZID=America/New_York:20210702T100000
DTEND;TZID=America/New_York:20210702T103000
LOCATION:
SUMMARY:Bingo with Mary
END:VEVENT
END:VCALENDAR
