BEGIN:VCALENDAR
VERSION:2.0
PRODID:-//www.thearcofsomerset.org//NONSGML kigkonsult.se iCalcreator 2.30.
 10//
CALSCALE:GREGORIAN
METHOD:PUBLISH
UID:52cbd777-d470-433e-aae3-1f70589a3047
X-WR-CALDESC:
X-WR-RELCALID:5350c75e823f8d627e15356d7347b98b
X-WR-TIMEZONE:America/New_York
BEGIN:VTIMEZONE
TZID:America/New_York
BEGIN:STANDARD
TZNAME:EST
DTSTART:20201101T020000
TZOFFSETFROM:-0400
TZOFFSETTO:-0500
RDATE:20211107T020000
RDATE:20221106T020000
END:STANDARD
BEGIN:DAYLIGHT
TZNAME:EDT
DTSTART:20210314T020000
TZOFFSETFROM:-0500
TZOFFSETTO:-0400
RDATE:20220313T020000
END:DAYLIGHT
END:VTIMEZONE
BEGIN:VEVENT
UID:cbff7118-cd27-44ab-8c13-6d7dee8f762a
DTSTAMP:20260425T190845Z
DESCRIPTION:
DTSTART;TZID=America/New_York:20210708T111500
DTEND;TZID=America/New_York:20210708T234500
LOCATION:
SUMMARY:Literacy class - all welcome!
END:VEVENT
END:VCALENDAR
