BEGIN:VCALENDAR
VERSION:2.0
PRODID:-//www.thearcofsomerset.org//NONSGML kigkonsult.se iCalcreator 2.30.
 10//
CALSCALE:GREGORIAN
METHOD:PUBLISH
UID:29fbca47-ee7e-4e65-a716-d40ff78b24e1
X-WR-CALDESC:
X-WR-RELCALID:b0d15f03b3ee4fa05c022ee812a2f3f2
X-WR-TIMEZONE:America/New_York
BEGIN:VTIMEZONE
TZID:America/New_York
BEGIN:STANDARD
TZNAME:EST
DTSTART:20201101T020000
TZOFFSETFROM:-0400
TZOFFSETTO:-0500
RDATE:20211107T020000
RDATE:20221106T020000
END:STANDARD
BEGIN:DAYLIGHT
TZNAME:EDT
DTSTART:20210314T020000
TZOFFSETFROM:-0500
TZOFFSETTO:-0400
RDATE:20220313T020000
END:DAYLIGHT
END:VTIMEZONE
BEGIN:VEVENT
UID:8162743f-455f-4100-b5cb-f4dbd0716215
DTSTAMP:20260425T190806Z
DESCRIPTION:
DTSTART;TZID=America/New_York:20210709T140000
DTEND;TZID=America/New_York:20210709T143000
LOCATION:
SUMMARY:Literacy class - all welcome!
END:VEVENT
END:VCALENDAR
