BEGIN:VCALENDAR
VERSION:2.0
PRODID:-//www.thearcofsomerset.org//NONSGML kigkonsult.se iCalcreator 2.30.
 10//
CALSCALE:GREGORIAN
METHOD:PUBLISH
UID:203e9ff9-7d8c-4516-9c2a-bae5597e321d
X-WR-CALDESC:
X-WR-RELCALID:a693ba60c88622db26457290a7130006
X-WR-TIMEZONE:America/New_York
BEGIN:VTIMEZONE
TZID:America/New_York
BEGIN:STANDARD
TZNAME:EST
DTSTART:20201101T020000
TZOFFSETFROM:-0400
TZOFFSETTO:-0500
RDATE:20211107T020000
RDATE:20221106T020000
END:STANDARD
BEGIN:DAYLIGHT
TZNAME:EDT
DTSTART:20210314T020000
TZOFFSETFROM:-0500
TZOFFSETTO:-0400
RDATE:20220313T020000
END:DAYLIGHT
END:VTIMEZONE
BEGIN:VEVENT
UID:418db04c-a026-4d42-9d26-b2aa46dc5b89
DTSTAMP:20260425T190752Z
DESCRIPTION:
DTSTART;TZID=America/New_York:20210712T140000
DTEND;TZID=America/New_York:20210712T143000
LOCATION:
SUMMARY:Art with Tonya
END:VEVENT
END:VCALENDAR
