BEGIN:VCALENDAR
VERSION:2.0
PRODID:-//www.thearcofsomerset.org//NONSGML kigkonsult.se iCalcreator 2.30.
 10//
CALSCALE:GREGORIAN
METHOD:PUBLISH
UID:b77b0a11-8194-4ea7-b03e-0ab11442d40a
X-WR-CALDESC:
X-WR-RELCALID:18586b4a04b08faebd60bc09c83f9d5f
X-WR-TIMEZONE:America/New_York
BEGIN:VTIMEZONE
TZID:America/New_York
BEGIN:STANDARD
TZNAME:EST
DTSTART:20201101T020000
TZOFFSETFROM:-0400
TZOFFSETTO:-0500
RDATE:20211107T020000
RDATE:20221106T020000
END:STANDARD
BEGIN:DAYLIGHT
TZNAME:EDT
DTSTART:20210314T020000
TZOFFSETFROM:-0500
TZOFFSETTO:-0400
RDATE:20220313T020000
END:DAYLIGHT
END:VTIMEZONE
BEGIN:VEVENT
UID:65ddc59c-07be-4dcd-9c9e-f188490986bd
DTSTAMP:20260425T191306Z
DESCRIPTION:
DTSTART;TZID=America/New_York:20210713T130000
DTEND;TZID=America/New_York:20210713T133000
LOCATION:
SUMMARY:“Music for Hope and Inspiration” outside at JCATC and virtual – spe
 cial violin performance
END:VEVENT
END:VCALENDAR
