BEGIN:VCALENDAR
VERSION:2.0
PRODID:-//www.thearcofsomerset.org//NONSGML kigkonsult.se iCalcreator 2.30.
 10//
CALSCALE:GREGORIAN
METHOD:PUBLISH
UID:78925948-5318-4306-b429-6d0c60630e55
X-WR-CALDESC:
X-WR-RELCALID:111c96e59a3aad155bc4bd1569159d80
X-WR-TIMEZONE:America/New_York
BEGIN:VTIMEZONE
TZID:America/New_York
BEGIN:STANDARD
TZNAME:EST
DTSTART:20201101T020000
TZOFFSETFROM:-0400
TZOFFSETTO:-0500
RDATE:20211107T020000
RDATE:20221106T020000
END:STANDARD
BEGIN:DAYLIGHT
TZNAME:EDT
DTSTART:20210314T020000
TZOFFSETFROM:-0500
TZOFFSETTO:-0400
RDATE:20220313T020000
END:DAYLIGHT
END:VTIMEZONE
BEGIN:VEVENT
UID:f61b35b3-455a-49c2-82cb-0d224a0aae4f
DTSTAMP:20260425T191306Z
DESCRIPTION:
DTSTART;TZID=America/New_York:20210720T130000
DTEND;TZID=America/New_York:20210720T133000
LOCATION:
SUMMARY:“Music for Hope and Inspiration” outside at JCATC and virtual – Cof
 feehouse Project
END:VEVENT
END:VCALENDAR
