BEGIN:VCALENDAR
VERSION:2.0
PRODID:-//www.thearcofsomerset.org//NONSGML kigkonsult.se iCalcreator 2.30.
 10//
CALSCALE:GREGORIAN
METHOD:PUBLISH
UID:d2137097-e7bb-46f3-ac60-a4c44e051bd6
X-WR-CALDESC:
X-WR-RELCALID:a963cfa2c888c8f14c97b3f47fe8a40e
X-WR-TIMEZONE:America/New_York
BEGIN:VTIMEZONE
TZID:America/New_York
BEGIN:STANDARD
TZNAME:EST
DTSTART:20201101T020000
TZOFFSETFROM:-0400
TZOFFSETTO:-0500
RDATE:20211107T020000
RDATE:20221106T020000
END:STANDARD
BEGIN:DAYLIGHT
TZNAME:EDT
DTSTART:20210314T020000
TZOFFSETFROM:-0500
TZOFFSETTO:-0400
RDATE:20220313T020000
END:DAYLIGHT
END:VTIMEZONE
BEGIN:VEVENT
UID:e8c37c59-86a0-401f-8f7f-65cc46defb02
DTSTAMP:20260425T190926Z
DESCRIPTION:
DTSTART;TZID=America/New_York:20210722T111500
DTEND;TZID=America/New_York:20210722T234500
LOCATION:
SUMMARY:Literacy class - all welcome!
END:VEVENT
END:VCALENDAR
