BEGIN:VCALENDAR
VERSION:2.0
PRODID:-//www.thearcofsomerset.org//NONSGML kigkonsult.se iCalcreator 2.30.
 10//
CALSCALE:GREGORIAN
METHOD:PUBLISH
UID:797d7b56-4f6c-4a6b-8349-70f0271c497e
X-WR-CALDESC:
X-WR-RELCALID:aa8456eb6eeaf2d5fee96af9d15b9e38
X-WR-TIMEZONE:America/New_York
BEGIN:VTIMEZONE
TZID:America/New_York
BEGIN:STANDARD
TZNAME:EST
DTSTART:20201101T020000
TZOFFSETFROM:-0400
TZOFFSETTO:-0500
RDATE:20211107T020000
RDATE:20221106T020000
END:STANDARD
BEGIN:DAYLIGHT
TZNAME:EDT
DTSTART:20210314T020000
TZOFFSETFROM:-0500
TZOFFSETTO:-0400
RDATE:20220313T020000
END:DAYLIGHT
END:VTIMEZONE
BEGIN:VEVENT
UID:bc0b3931-f1b0-4ef8-a0e8-9f18fbedc764
DTSTAMP:20260425T190752Z
DESCRIPTION:
DTSTART;TZID=America/New_York:20210726T140000
DTEND;TZID=America/New_York:20210726T143000
LOCATION:
SUMMARY:Art with Tonya
END:VEVENT
END:VCALENDAR
