BEGIN:VCALENDAR
VERSION:2.0
PRODID:-//www.thearcofsomerset.org//NONSGML kigkonsult.se iCalcreator 2.30.
 10//
CALSCALE:GREGORIAN
METHOD:PUBLISH
UID:385aef8e-6c9e-4e25-95ad-a60b75fb752e
X-WR-CALDESC:
X-WR-RELCALID:7907e84b9566f1a693193dd283cd749d
X-WR-TIMEZONE:America/New_York
BEGIN:VTIMEZONE
TZID:America/New_York
BEGIN:STANDARD
TZNAME:EST
DTSTART:20201101T020000
TZOFFSETFROM:-0400
TZOFFSETTO:-0500
RDATE:20211107T020000
RDATE:20221106T020000
END:STANDARD
BEGIN:DAYLIGHT
TZNAME:EDT
DTSTART:20210314T020000
TZOFFSETFROM:-0500
TZOFFSETTO:-0400
RDATE:20220313T020000
END:DAYLIGHT
END:VTIMEZONE
BEGIN:VEVENT
UID:27494856-0580-4298-a450-edd82bcd1291
DTSTAMP:20260425T191301Z
DESCRIPTION:
DTSTART;TZID=America/New_York:20210727T153000
DTEND;TZID=America/New_York:20210727T160000
LOCATION:
SUMMARY:“Shooting the Breeze with Friends” –
END:VEVENT
END:VCALENDAR
