BEGIN:VCALENDAR
VERSION:2.0
PRODID:-//www.thearcofsomerset.org//NONSGML kigkonsult.se iCalcreator 2.30.
 10//
CALSCALE:GREGORIAN
METHOD:PUBLISH
UID:bfe85f4c-32ec-4a95-b51f-83c113add13c
X-WR-CALDESC:
X-WR-RELCALID:7161f9deb344cf17130931119927a031
X-WR-TIMEZONE:America/New_York
BEGIN:VTIMEZONE
TZID:America/New_York
BEGIN:STANDARD
TZNAME:EST
DTSTART:20201101T020000
TZOFFSETFROM:-0400
TZOFFSETTO:-0500
RDATE:20211107T020000
RDATE:20221106T020000
END:STANDARD
BEGIN:DAYLIGHT
TZNAME:EDT
DTSTART:20210314T020000
TZOFFSETFROM:-0500
TZOFFSETTO:-0400
RDATE:20220313T020000
END:DAYLIGHT
END:VTIMEZONE
BEGIN:VEVENT
UID:1dd55f7c-3318-4dd0-9292-1621d026a284
DTSTAMP:20260425T191307Z
DESCRIPTION:
DTSTART;TZID=America/New_York:20210729T130000
DTEND;TZID=America/New_York:20210729T133000
LOCATION:
SUMMARY:“Music for Hope and Inspiration” outside at JCATC and virtual – Tom
 my Strazza
END:VEVENT
END:VCALENDAR
