BEGIN:VCALENDAR
VERSION:2.0
PRODID:-//www.thearcofsomerset.org//NONSGML kigkonsult.se iCalcreator 2.30.
 10//
CALSCALE:GREGORIAN
METHOD:PUBLISH
UID:b26f75cd-f07a-4d49-82f6-1486d7778142
X-WR-CALDESC:
X-WR-RELCALID:07b923b6439376600e27b54b41c40b3e
X-WR-TIMEZONE:America/New_York
BEGIN:VTIMEZONE
TZID:America/New_York
BEGIN:STANDARD
TZNAME:EST
DTSTART:20201101T020000
TZOFFSETFROM:-0400
TZOFFSETTO:-0500
RDATE:20211107T020000
RDATE:20221106T020000
END:STANDARD
BEGIN:DAYLIGHT
TZNAME:EDT
DTSTART:20210314T020000
TZOFFSETFROM:-0500
TZOFFSETTO:-0400
RDATE:20220313T020000
END:DAYLIGHT
END:VTIMEZONE
BEGIN:VEVENT
UID:fc8fa817-4a7e-47a3-b51d-f68106af8298
DTSTAMP:20260425T172904Z
DESCRIPTION:
DTSTART;TZID=America/New_York:20210806T100000
DTEND;TZID=America/New_York:20210806T103000
LOCATION:
SUMMARY:Bingo with Mary
END:VEVENT
END:VCALENDAR
