BEGIN:VCALENDAR
VERSION:2.0
PRODID:-//www.thearcofsomerset.org//NONSGML kigkonsult.se iCalcreator 2.30.
 10//
CALSCALE:GREGORIAN
METHOD:PUBLISH
UID:315d6bd5-a631-4541-adc2-404fd11b7014
X-WR-CALDESC:
X-WR-RELCALID:f57bade8ca4d2cefcb97a28fee4a29c0
X-WR-TIMEZONE:America/New_York
BEGIN:VTIMEZONE
TZID:America/New_York
BEGIN:STANDARD
TZNAME:EST
DTSTART:20201101T020000
TZOFFSETFROM:-0400
TZOFFSETTO:-0500
RDATE:20211107T020000
RDATE:20221106T020000
END:STANDARD
BEGIN:DAYLIGHT
TZNAME:EDT
DTSTART:20210314T020000
TZOFFSETFROM:-0500
TZOFFSETTO:-0400
RDATE:20220313T020000
END:DAYLIGHT
END:VTIMEZONE
BEGIN:VEVENT
UID:7e448154-6322-4f1f-933b-7c1073e467e0
DTSTAMP:20260425T172549Z
DESCRIPTION:
DTSTART;TZID=America/New_York:20210809T140000
DTEND;TZID=America/New_York:20210809T143000
LOCATION:
SUMMARY:Art with Tonya
END:VEVENT
END:VCALENDAR
