BEGIN:VCALENDAR
VERSION:2.0
PRODID:-//www.thearcofsomerset.org//NONSGML kigkonsult.se iCalcreator 2.30.
 10//
CALSCALE:GREGORIAN
METHOD:PUBLISH
UID:1b078108-8acd-4ec2-bb57-b1e573702a87
X-WR-CALDESC:
X-WR-RELCALID:63cd639cff059309746c181a0411e255
X-WR-TIMEZONE:America/New_York
BEGIN:VTIMEZONE
TZID:America/New_York
BEGIN:STANDARD
TZNAME:EST
DTSTART:20201101T020000
TZOFFSETFROM:-0400
TZOFFSETTO:-0500
RDATE:20211107T020000
RDATE:20221106T020000
END:STANDARD
BEGIN:DAYLIGHT
TZNAME:EDT
DTSTART:20210314T020000
TZOFFSETFROM:-0500
TZOFFSETTO:-0400
RDATE:20220313T020000
END:DAYLIGHT
END:VTIMEZONE
BEGIN:VEVENT
UID:2ba80bf7-8e4f-4608-b3af-2c8c5d2fe0ed
DTSTAMP:20260425T173136Z
DESCRIPTION:
DTSTART;TZID=America/New_York:20210810T153000
DTEND;TZID=America/New_York:20210810T160000
LOCATION:
SUMMARY:“Shooting the Breeze with Friends”
END:VEVENT
END:VCALENDAR
