BEGIN:VCALENDAR
VERSION:2.0
PRODID:-//www.thearcofsomerset.org//NONSGML kigkonsult.se iCalcreator 2.30.
 10//
CALSCALE:GREGORIAN
METHOD:PUBLISH
UID:b48c80f7-67c2-4648-b63f-c1043a22ecb1
X-WR-CALDESC:
X-WR-RELCALID:8a3fdcd428fc13393a079ba1aab83baf
X-WR-TIMEZONE:America/New_York
BEGIN:VTIMEZONE
TZID:America/New_York
BEGIN:STANDARD
TZNAME:EST
DTSTART:20201101T020000
TZOFFSETFROM:-0400
TZOFFSETTO:-0500
RDATE:20211107T020000
RDATE:20221106T020000
END:STANDARD
BEGIN:DAYLIGHT
TZNAME:EDT
DTSTART:20210314T020000
TZOFFSETFROM:-0500
TZOFFSETTO:-0400
RDATE:20220313T020000
END:DAYLIGHT
END:VTIMEZONE
BEGIN:VEVENT
UID:07690b47-8352-46a7-9da2-094ada5a8bc9
DTSTAMP:20260425T173211Z
DESCRIPTION:
DTSTART;TZID=America/New_York:20210812T130000
DTEND;TZID=America/New_York:20210812T133000
LOCATION:
SUMMARY:Music for Hope and Inspiration outside at JCATC and virtual - Austi
 n\, Dylan and Eduardo on piano!
END:VEVENT
END:VCALENDAR
