BEGIN:VCALENDAR
VERSION:2.0
PRODID:-//www.thearcofsomerset.org//NONSGML kigkonsult.se iCalcreator 2.30.
 10//
CALSCALE:GREGORIAN
METHOD:PUBLISH
UID:0b36066b-2230-4911-9e4f-5a08e9300dfd
X-WR-CALDESC:
X-WR-RELCALID:43f4bdeff1c0fa08840a6625e2409cb9
X-WR-TIMEZONE:America/New_York
BEGIN:VTIMEZONE
TZID:America/New_York
BEGIN:STANDARD
TZNAME:EST
DTSTART:20201101T020000
TZOFFSETFROM:-0400
TZOFFSETTO:-0500
RDATE:20211107T020000
RDATE:20221106T020000
END:STANDARD
BEGIN:DAYLIGHT
TZNAME:EDT
DTSTART:20210314T020000
TZOFFSETFROM:-0500
TZOFFSETTO:-0400
RDATE:20220313T020000
END:DAYLIGHT
END:VTIMEZONE
BEGIN:VEVENT
UID:b2880dba-0ae7-46e4-9c56-376e67d9c7c3
DTSTAMP:20260425T173141Z
DESCRIPTION:
DTSTART;TZID=America/New_York:20210817T130000
DTEND;TZID=America/New_York:20210817T133000
LOCATION:
SUMMARY:“Music for Hope and Inspiration”       outside at JCATC and virtual
  – Project
END:VEVENT
END:VCALENDAR
