BEGIN:VCALENDAR
VERSION:2.0
PRODID:-//www.thearcofsomerset.org//NONSGML kigkonsult.se iCalcreator 2.30.
 10//
CALSCALE:GREGORIAN
METHOD:PUBLISH
UID:17d66686-807b-406f-97f3-92ee3f7ea2ef
X-WR-CALDESC:
X-WR-RELCALID:85cdb58ab49672c2eb15236c23e6997c
X-WR-TIMEZONE:America/New_York
BEGIN:VTIMEZONE
TZID:America/New_York
BEGIN:STANDARD
TZNAME:EST
DTSTART:20201101T020000
TZOFFSETFROM:-0400
TZOFFSETTO:-0500
RDATE:20211107T020000
RDATE:20221106T020000
END:STANDARD
BEGIN:DAYLIGHT
TZNAME:EDT
DTSTART:20210314T020000
TZOFFSETFROM:-0500
TZOFFSETTO:-0400
RDATE:20220313T020000
END:DAYLIGHT
END:VTIMEZONE
BEGIN:VEVENT
UID:c0fdc698-57be-4320-928b-4af81e643e77
DTSTAMP:20260425T173135Z
DESCRIPTION:
DTSTART;TZID=America/New_York:20210817T153000
DTEND;TZID=America/New_York:20210817T160000
LOCATION:
SUMMARY:“Shooting the Breeze with Friends”
END:VEVENT
END:VCALENDAR
