BEGIN:VCALENDAR
VERSION:2.0
PRODID:-//www.thearcofsomerset.org//NONSGML kigkonsult.se iCalcreator 2.30.
 10//
CALSCALE:GREGORIAN
METHOD:PUBLISH
UID:a5da751d-5770-4af5-8add-fbb709f9a375
X-WR-CALDESC:
X-WR-RELCALID:c4039e3d20ef476f4a12c63c1a0617fc
X-WR-TIMEZONE:America/New_York
BEGIN:VTIMEZONE
TZID:America/New_York
BEGIN:STANDARD
TZNAME:EST
DTSTART:20201101T020000
TZOFFSETFROM:-0400
TZOFFSETTO:-0500
RDATE:20211107T020000
RDATE:20221106T020000
END:STANDARD
BEGIN:DAYLIGHT
TZNAME:EDT
DTSTART:20210314T020000
TZOFFSETFROM:-0500
TZOFFSETTO:-0400
RDATE:20220313T020000
END:DAYLIGHT
END:VTIMEZONE
BEGIN:VEVENT
UID:a49bbbc4-4331-4147-bfed-2f875541dfba
DTSTAMP:20260425T172551Z
DESCRIPTION:
DTSTART;TZID=America/New_York:20210823T140000
DTEND;TZID=America/New_York:20210823T143000
LOCATION:
SUMMARY:Art with Tonya
END:VEVENT
END:VCALENDAR
