BEGIN:VCALENDAR
VERSION:2.0
PRODID:-//www.thearcofsomerset.org//NONSGML kigkonsult.se iCalcreator 2.30.
 10//
CALSCALE:GREGORIAN
METHOD:PUBLISH
UID:37325035-ef6b-47f2-9a91-df347b1d5e98
X-WR-CALDESC:
X-WR-RELCALID:844ff3a0392d1de00cb9defa138f6a7d
X-WR-TIMEZONE:America/New_York
BEGIN:VTIMEZONE
TZID:America/New_York
BEGIN:STANDARD
TZNAME:EST
DTSTART:20201101T020000
TZOFFSETFROM:-0400
TZOFFSETTO:-0500
RDATE:20211107T020000
RDATE:20221106T020000
END:STANDARD
BEGIN:DAYLIGHT
TZNAME:EDT
DTSTART:20210314T020000
TZOFFSETFROM:-0500
TZOFFSETTO:-0400
RDATE:20220313T020000
END:DAYLIGHT
END:VTIMEZONE
BEGIN:VEVENT
UID:28865c1d-39c7-4695-bf5c-0ee3bf291c76
DTSTAMP:20260425T173140Z
DESCRIPTION:
DTSTART;TZID=America/New_York:20210826T130000
DTEND;TZID=America/New_York:20210826T133000
LOCATION:
SUMMARY:“Music for Hope and Inspiration”                      outside at JC
 ATC and virtual – Tommy Strazza
END:VEVENT
END:VCALENDAR
