BEGIN:VCALENDAR
VERSION:2.0
PRODID:-//www.thearcofsomerset.org//NONSGML kigkonsult.se iCalcreator 2.30.
 10//
CALSCALE:GREGORIAN
METHOD:PUBLISH
UID:d7aff88a-d7d7-43cc-b01a-ee8f6c7f694f
X-WR-CALDESC:
X-WR-RELCALID:e2950662daba1fca137b56d05d877a8d
X-WR-TIMEZONE:America/New_York
BEGIN:VTIMEZONE
TZID:America/New_York
BEGIN:STANDARD
TZNAME:EST
DTSTART:20201101T020000
TZOFFSETFROM:-0400
TZOFFSETTO:-0500
RDATE:20211107T020000
RDATE:20221106T020000
END:STANDARD
BEGIN:DAYLIGHT
TZNAME:EDT
DTSTART:20210314T020000
TZOFFSETFROM:-0500
TZOFFSETTO:-0400
RDATE:20220313T020000
END:DAYLIGHT
END:VTIMEZONE
BEGIN:VEVENT
UID:0bd0fdd1-3baa-4972-becc-1bdb169b62ae
DTSTAMP:20260425T172644Z
DESCRIPTION:
DTSTART;TZID=America/New_York:20210826T111500
DTEND;TZID=America/New_York:20210826T114500
LOCATION:
SUMMARY:Literacy class – all welcome!
END:VEVENT
END:VCALENDAR
