BEGIN:VCALENDAR
VERSION:2.0
PRODID:-//www.thearcofsomerset.org//NONSGML kigkonsult.se iCalcreator 2.30.
 10//
CALSCALE:GREGORIAN
METHOD:PUBLISH
UID:ee8c7cca-0f73-44df-b975-181b27adc1eb
X-WR-CALDESC:
X-WR-RELCALID:d5a8f18d1dfad5a868105df607ef1966
X-WR-TIMEZONE:America/New_York
BEGIN:VTIMEZONE
TZID:America/New_York
BEGIN:STANDARD
TZNAME:EST
DTSTART:20201101T020000
TZOFFSETFROM:-0400
TZOFFSETTO:-0500
RDATE:20211107T020000
RDATE:20221106T020000
END:STANDARD
BEGIN:DAYLIGHT
TZNAME:EDT
DTSTART:20210314T020000
TZOFFSETFROM:-0500
TZOFFSETTO:-0400
RDATE:20220313T020000
END:DAYLIGHT
END:VTIMEZONE
BEGIN:VEVENT
UID:348404d3-db1e-45a6-9cc3-53804e9ce1b4
DTSTAMP:20260425T172804Z
DESCRIPTION:
DTSTART;TZID=America/New_York:20210827T140000
DTEND;TZID=America/New_York:20210827T143000
LOCATION:
SUMMARY:Literacy class – all welcome!
END:VEVENT
END:VCALENDAR
