BEGIN:VCALENDAR
VERSION:2.0
PRODID:-//www.thearcofsomerset.org//NONSGML kigkonsult.se iCalcreator 2.30.
 10//
CALSCALE:GREGORIAN
METHOD:PUBLISH
UID:5a8f7281-2f59-452b-969b-aad47e6d99d5
X-WR-CALDESC:
X-WR-RELCALID:dc7b68b1343a7b6a45f7f6921e447881
X-WR-TIMEZONE:America/New_York
BEGIN:VTIMEZONE
TZID:America/New_York
BEGIN:STANDARD
TZNAME:EST
DTSTART:20201101T020000
TZOFFSETFROM:-0400
TZOFFSETTO:-0500
RDATE:20211107T020000
RDATE:20221106T020000
END:STANDARD
BEGIN:DAYLIGHT
TZNAME:EDT
DTSTART:20210314T020000
TZOFFSETFROM:-0500
TZOFFSETTO:-0400
RDATE:20220313T020000
END:DAYLIGHT
END:VTIMEZONE
BEGIN:VEVENT
UID:4f19d530-c509-446c-b3ac-e351110a03e4
DTSTAMP:20260425T173014Z
DESCRIPTION:
DTSTART;TZID=America/New_York:20210830T100000
DTEND;TZID=America/New_York:20210830T103000
LOCATION:
SUMMARY:10:00-10:30: Literacy Class – all welcome
END:VEVENT
END:VCALENDAR
