BEGIN:VCALENDAR
VERSION:2.0
PRODID:-//www.thearcofsomerset.org//NONSGML kigkonsult.se iCalcreator 2.30.
 10//
CALSCALE:GREGORIAN
METHOD:PUBLISH
UID:8197930c-8fa7-4a60-a052-e730d19078eb
X-WR-CALDESC:
X-WR-RELCALID:b59c88b8b57155c24f4a5b4b68cb8678
X-WR-TIMEZONE:America/New_York
BEGIN:VTIMEZONE
TZID:America/New_York
BEGIN:STANDARD
TZNAME:EST
DTSTART:20201101T020000
TZOFFSETFROM:-0400
TZOFFSETTO:-0500
RDATE:20211107T020000
RDATE:20221106T020000
END:STANDARD
BEGIN:DAYLIGHT
TZNAME:EDT
DTSTART:20210314T020000
TZOFFSETFROM:-0500
TZOFFSETTO:-0400
RDATE:20220313T020000
END:DAYLIGHT
END:VTIMEZONE
BEGIN:VEVENT
UID:c8010713-c1a4-4dc8-a814-65b700ad0275
DTSTAMP:20260425T172842Z
DESCRIPTION:
DTSTART;TZID=America/New_York:20210830T140000
DTEND;TZID=America/New_York:20210830T143000
LOCATION:
SUMMARY:Art with Tonya
END:VEVENT
END:VCALENDAR
