BEGIN:VCALENDAR
VERSION:2.0
PRODID:-//www.thearcofsomerset.org//NONSGML kigkonsult.se iCalcreator 2.30.
 10//
CALSCALE:GREGORIAN
METHOD:PUBLISH
UID:a6711c77-d41d-4244-9890-9a30739269bd
X-WR-CALDESC:
X-WR-RELCALID:e4ccf139ac4f4acc8f4efaa9377fdc0e
X-WR-TIMEZONE:America/New_York
BEGIN:VTIMEZONE
TZID:America/New_York
BEGIN:STANDARD
TZNAME:EST
DTSTART:20201101T020000
TZOFFSETFROM:-0400
TZOFFSETTO:-0500
RDATE:20211107T020000
RDATE:20221106T020000
END:STANDARD
BEGIN:DAYLIGHT
TZNAME:EDT
DTSTART:20210314T020000
TZOFFSETFROM:-0500
TZOFFSETTO:-0400
RDATE:20220313T020000
END:DAYLIGHT
END:VTIMEZONE
BEGIN:VEVENT
UID:dc4382b0-a811-4448-935e-c8aa4a08a839
DTSTAMP:20260425T173236Z
DESCRIPTION:
DTSTART;TZID=America/New_York:20210831T130000
DTEND;TZID=America/New_York:20210831T133000
LOCATION:
SUMMARY:“Music for Hope and Inspiration” Outside at JCATC and virtual - Dan
 ce Party!
END:VEVENT
END:VCALENDAR
