BEGIN:VCALENDAR
VERSION:2.0
PRODID:-//www.thearcofsomerset.org//NONSGML kigkonsult.se iCalcreator 2.30.
 10//
CALSCALE:GREGORIAN
METHOD:PUBLISH
UID:f4f0bfa0-5a5d-4cbf-b200-6e5dc636f9c4
X-WR-CALDESC:
X-WR-RELCALID:3da94ddd575e1dd1bba2d1e5dc11a9e2
X-WR-TIMEZONE:America/New_York
BEGIN:VTIMEZONE
TZID:America/New_York
BEGIN:STANDARD
TZNAME:EST
DTSTART:20201101T020000
TZOFFSETFROM:-0400
TZOFFSETTO:-0500
RDATE:20211107T020000
RDATE:20221106T020000
END:STANDARD
BEGIN:DAYLIGHT
TZNAME:EDT
DTSTART:20210314T020000
TZOFFSETFROM:-0500
TZOFFSETTO:-0400
RDATE:20220313T020000
END:DAYLIGHT
END:VTIMEZONE
BEGIN:VEVENT
UID:9b8c648f-cd8a-41f1-ab73-f6196460e184
DTSTAMP:20260425T173133Z
DESCRIPTION:
DTSTART;TZID=America/New_York:20210831T153000
DTEND;TZID=America/New_York:20210831T160000
LOCATION:
SUMMARY:“Shooting the Breeze with Friends”
END:VEVENT
END:VCALENDAR
