BEGIN:VCALENDAR
VERSION:2.0
PRODID:-//www.thearcofsomerset.org//NONSGML kigkonsult.se iCalcreator 2.30.
 10//
CALSCALE:GREGORIAN
METHOD:PUBLISH
UID:dbac1055-5679-4720-967a-def938bdfda9
X-WR-CALDESC:
X-WR-RELCALID:f75e019543eea473c13f8766675956be
X-WR-TIMEZONE:America/New_York
BEGIN:VTIMEZONE
TZID:America/New_York
BEGIN:STANDARD
TZNAME:EST
DTSTART:20201101T020000
TZOFFSETFROM:-0400
TZOFFSETTO:-0500
RDATE:20211107T020000
RDATE:20221106T020000
END:STANDARD
BEGIN:DAYLIGHT
TZNAME:EDT
DTSTART:20210314T020000
TZOFFSETFROM:-0500
TZOFFSETTO:-0400
RDATE:20220313T020000
END:DAYLIGHT
END:VTIMEZONE
BEGIN:VEVENT
UID:bb4bfe08-c215-48cd-987f-7a9912b7bc6c
DTSTAMP:20260425T154702Z
DESCRIPTION:
DTSTART;TZID=America/New_York:20210901T111500
DTEND;TZID=America/New_York:20210901T114500
LOCATION:
SUMMARY:11:15am Literacy Class – all welcome
END:VEVENT
END:VCALENDAR
