BEGIN:VCALENDAR
VERSION:2.0
PRODID:-//www.thearcofsomerset.org//NONSGML kigkonsult.se iCalcreator 2.30.
 10//
CALSCALE:GREGORIAN
METHOD:PUBLISH
UID:1a6052f0-3b23-4ecd-a6e0-a5cb99c26932
X-WR-CALDESC:
X-WR-RELCALID:3a75f4820270603b921cdc7b6cda0dba
X-WR-TIMEZONE:America/New_York
BEGIN:VTIMEZONE
TZID:America/New_York
BEGIN:STANDARD
TZNAME:EST
DTSTART:20201101T020000
TZOFFSETFROM:-0400
TZOFFSETTO:-0500
RDATE:20211107T020000
RDATE:20221106T020000
END:STANDARD
BEGIN:DAYLIGHT
TZNAME:EDT
DTSTART:20210314T020000
TZOFFSETFROM:-0500
TZOFFSETTO:-0400
RDATE:20220313T020000
END:DAYLIGHT
END:VTIMEZONE
BEGIN:VEVENT
UID:08e15718-a7c5-4d35-8b86-be7565463b1c
DTSTAMP:20260425T152830Z
DESCRIPTION:
DTSTART;TZID=America/New_York:20210903T100000
DTEND;TZID=America/New_York:20210903T103000
LOCATION:
SUMMARY:10:00-10:30: BINGO with Mary – all welcome
END:VEVENT
END:VCALENDAR
