BEGIN:VCALENDAR
VERSION:2.0
PRODID:-//www.thearcofsomerset.org//NONSGML kigkonsult.se iCalcreator 2.30.
 10//
CALSCALE:GREGORIAN
METHOD:PUBLISH
UID:da5a333e-654d-4d18-b8dc-e88d14cb6660
X-WR-CALDESC:Outside at JCATC & virtual: Dance Party!!
X-WR-RELCALID:d1c8debfeb7eb5b4a734bdad989cd4f5
X-WR-TIMEZONE:America/New_York
BEGIN:VTIMEZONE
TZID:America/New_York
BEGIN:STANDARD
TZNAME:EST
DTSTART:20201101T020000
TZOFFSETFROM:-0400
TZOFFSETTO:-0500
RDATE:20211107T020000
RDATE:20221106T020000
END:STANDARD
BEGIN:DAYLIGHT
TZNAME:EDT
DTSTART:20210314T020000
TZOFFSETFROM:-0500
TZOFFSETTO:-0400
RDATE:20220313T020000
END:DAYLIGHT
END:VTIMEZONE
BEGIN:VEVENT
UID:ae684b6e-2137-407d-a615-294440974945
DTSTAMP:20260425T152947Z
DESCRIPTION:Outside at JCATC & virtual: Dance Party!!
DTSTART;TZID=America/New_York:20210907T130000
DTEND;TZID=America/New_York:20210907T133000
LOCATION:
SUMMARY:1:00-1:30: Music for Hope & Inspiration
END:VEVENT
END:VCALENDAR
