BEGIN:VCALENDAR
VERSION:2.0
PRODID:-//www.thearcofsomerset.org//NONSGML kigkonsult.se iCalcreator 2.30.
 10//
CALSCALE:GREGORIAN
METHOD:PUBLISH
UID:6e62e6ee-5552-4f64-b151-c15572469e3f
X-WR-CALDESC:
X-WR-RELCALID:ca0935ca3a4292d8542ca74b5375cf39
X-WR-TIMEZONE:America/New_York
BEGIN:VTIMEZONE
TZID:America/New_York
BEGIN:STANDARD
TZNAME:EST
DTSTART:20201101T020000
TZOFFSETFROM:-0400
TZOFFSETTO:-0500
RDATE:20211107T020000
RDATE:20221106T020000
END:STANDARD
BEGIN:DAYLIGHT
TZNAME:EDT
DTSTART:20210314T020000
TZOFFSETFROM:-0500
TZOFFSETTO:-0400
RDATE:20220313T020000
END:DAYLIGHT
END:VTIMEZONE
BEGIN:VEVENT
UID:7c6db57d-4cd4-45fb-aa20-f1ee1a7dcc91
DTSTAMP:20260425T152716Z
DESCRIPTION:
DTSTART;TZID=America/New_York:20210907T153000
DTEND;TZID=America/New_York:20210907T160000
LOCATION:
SUMMARY:3:30-4:00: Shooting the Breeze with Friends
END:VEVENT
END:VCALENDAR
