BEGIN:VCALENDAR
VERSION:2.0
PRODID:-//www.thearcofsomerset.org//NONSGML kigkonsult.se iCalcreator 2.30.
 10//
CALSCALE:GREGORIAN
METHOD:PUBLISH
UID:b3d522f1-f55a-4a48-8a46-8b85a322268e
X-WR-CALDESC:
X-WR-RELCALID:3cd07e31eec5840bbfe1553bc74dc491
X-WR-TIMEZONE:America/New_York
BEGIN:VTIMEZONE
TZID:America/New_York
BEGIN:STANDARD
TZNAME:EST
DTSTART:20201101T020000
TZOFFSETFROM:-0400
TZOFFSETTO:-0500
RDATE:20211107T020000
RDATE:20221106T020000
END:STANDARD
BEGIN:DAYLIGHT
TZNAME:EDT
DTSTART:20210314T020000
TZOFFSETFROM:-0500
TZOFFSETTO:-0400
RDATE:20220313T020000
RDATE:20230312T020000
END:DAYLIGHT
END:VTIMEZONE
BEGIN:VEVENT
UID:de3fd2da-f7d4-4528-b108-dff222fcc61b
DTSTAMP:20260425T153034Z
DESCRIPTION:
DTSTART;TZID=America/New_York:20210910T100000
DTEND;TZID=America/New_York:20210910T103000
LOCATION:
SUMMARY:10:00-10:15: BINGO with Mary – all welcome
END:VEVENT
END:VCALENDAR
