BEGIN:VCALENDAR
VERSION:2.0
PRODID:-//www.thearcofsomerset.org//NONSGML kigkonsult.se iCalcreator 2.30.
 10//
CALSCALE:GREGORIAN
METHOD:PUBLISH
UID:1c0dc019-ead8-4246-87a6-7c9420df45e6
X-WR-CALDESC:
X-WR-RELCALID:bc93794e922a1b4a3b6822d3093930f4
X-WR-TIMEZONE:America/New_York
BEGIN:VTIMEZONE
TZID:America/New_York
BEGIN:STANDARD
TZNAME:EST
DTSTART:20201101T020000
TZOFFSETFROM:-0400
TZOFFSETTO:-0500
RDATE:20211107T020000
RDATE:20221106T020000
END:STANDARD
BEGIN:DAYLIGHT
TZNAME:EDT
DTSTART:20210314T020000
TZOFFSETFROM:-0500
TZOFFSETTO:-0400
RDATE:20220313T020000
RDATE:20230312T020000
END:DAYLIGHT
END:VTIMEZONE
BEGIN:VEVENT
UID:571c1918-361a-466d-9b98-936ab1ecc41f
DTSTAMP:20260425T152759Z
DESCRIPTION:
DTSTART;TZID=America/New_York:20210913T100000
DTEND;TZID=America/New_York:20210913T103000
LOCATION:
SUMMARY:10:00-10:30: BINGO with Mary – all welcome
END:VEVENT
END:VCALENDAR
