BEGIN:VCALENDAR
VERSION:2.0
PRODID:-//www.thearcofsomerset.org//NONSGML kigkonsult.se iCalcreator 2.30.
 10//
CALSCALE:GREGORIAN
METHOD:PUBLISH
UID:a549a715-5955-4276-8338-3a9e87ccbf00
X-WR-CALDESC:
X-WR-RELCALID:7cdf50ea47118dbd58dbea371f325559
X-WR-TIMEZONE:America/New_York
BEGIN:VTIMEZONE
TZID:America/New_York
BEGIN:STANDARD
TZNAME:EST
DTSTART:20201101T020000
TZOFFSETFROM:-0400
TZOFFSETTO:-0500
RDATE:20211107T020000
RDATE:20221106T020000
END:STANDARD
BEGIN:DAYLIGHT
TZNAME:EDT
DTSTART:20210314T020000
TZOFFSETFROM:-0500
TZOFFSETTO:-0400
RDATE:20220313T020000
RDATE:20230312T020000
END:DAYLIGHT
END:VTIMEZONE
BEGIN:VEVENT
UID:ac0f4a7a-5a14-41a3-9c79-748e071794ec
DTSTAMP:20260425T152451Z
DESCRIPTION:
DTSTART;TZID=America/New_York:20210913T111500
DTEND;TZID=America/New_York:20210913T114500
LOCATION:
SUMMARY:11:15-11:45: Stressbusters
END:VEVENT
END:VCALENDAR
