BEGIN:VCALENDAR
VERSION:2.0
PRODID:-//www.thearcofsomerset.org//NONSGML kigkonsult.se iCalcreator 2.30.
 10//
CALSCALE:GREGORIAN
METHOD:PUBLISH
UID:a1ce445b-94b5-42f3-9c9d-1c6de53c46af
X-WR-CALDESC:Outside at JCATC & virtual:   Justin Brown
X-WR-RELCALID:0fc427944d0017f06e565b3d55368cfd
X-WR-TIMEZONE:America/New_York
BEGIN:VTIMEZONE
TZID:America/New_York
BEGIN:STANDARD
TZNAME:EST
DTSTART:20201101T020000
TZOFFSETFROM:-0400
TZOFFSETTO:-0500
RDATE:20211107T020000
RDATE:20221106T020000
END:STANDARD
BEGIN:DAYLIGHT
TZNAME:EDT
DTSTART:20210314T020000
TZOFFSETFROM:-0500
TZOFFSETTO:-0400
RDATE:20220313T020000
RDATE:20230312T020000
END:DAYLIGHT
END:VTIMEZONE
BEGIN:VEVENT
UID:c219831d-953f-42c6-b6db-5eed90f4ca30
DTSTAMP:20260425T152753Z
DESCRIPTION:Outside at JCATC & virtual:   Justin Brown
DTSTART;TZID=America/New_York:20210914T130000
DTEND;TZID=America/New_York:20210914T133000
LOCATION:
SUMMARY:1:00-1:30: Music for Hope & Inspiration
END:VEVENT
END:VCALENDAR
