BEGIN:VCALENDAR
VERSION:2.0
PRODID:-//www.thearcofsomerset.org//NONSGML kigkonsult.se iCalcreator 2.30.
 10//
CALSCALE:GREGORIAN
METHOD:PUBLISH
UID:339db83a-6783-4e9c-8129-ac330b5fdca2
X-WR-CALDESC:
X-WR-RELCALID:775f5eaeded739442041721cce816794
X-WR-TIMEZONE:America/New_York
BEGIN:VTIMEZONE
TZID:America/New_York
BEGIN:STANDARD
TZNAME:EST
DTSTART:20201101T020000
TZOFFSETFROM:-0400
TZOFFSETTO:-0500
RDATE:20211107T020000
RDATE:20221106T020000
END:STANDARD
BEGIN:DAYLIGHT
TZNAME:EDT
DTSTART:20210314T020000
TZOFFSETFROM:-0500
TZOFFSETTO:-0400
RDATE:20220313T020000
RDATE:20230312T020000
END:DAYLIGHT
END:VTIMEZONE
BEGIN:VEVENT
UID:eb0e4827-3720-4d11-b2ea-b34da0bc9fce
DTSTAMP:20260425T152533Z
DESCRIPTION:
DTSTART;TZID=America/New_York:20210915T100000
DTEND;TZID=America/New_York:20210915T103000
LOCATION:
SUMMARY:10:00-10:30: Literacy Class – all welcome
END:VEVENT
END:VCALENDAR
