BEGIN:VCALENDAR
VERSION:2.0
PRODID:-//www.thearcofsomerset.org//NONSGML kigkonsult.se iCalcreator 2.30.
 10//
CALSCALE:GREGORIAN
METHOD:PUBLISH
UID:6536c275-e90c-43b6-8ea8-ac9bcf524134
X-WR-CALDESC:
X-WR-RELCALID:e1db013d3bc3ad8e1f13ba029a427c8e
X-WR-TIMEZONE:America/New_York
BEGIN:VTIMEZONE
TZID:America/New_York
BEGIN:STANDARD
TZNAME:EST
DTSTART:20201101T020000
TZOFFSETFROM:-0400
TZOFFSETTO:-0500
RDATE:20211107T020000
RDATE:20221106T020000
END:STANDARD
BEGIN:DAYLIGHT
TZNAME:EDT
DTSTART:20210314T020000
TZOFFSETFROM:-0500
TZOFFSETTO:-0400
RDATE:20220313T020000
RDATE:20230312T020000
END:DAYLIGHT
END:VTIMEZONE
BEGIN:VEVENT
UID:226678a9-6d87-4aa5-af0b-b227b03e3c30
DTSTAMP:20260425T154738Z
DESCRIPTION:
DTSTART;TZID=America/New_York:20210915T111500
DTEND;TZID=America/New_York:20210915T114500
LOCATION:
SUMMARY:11:15-11:45: Literacy Class – all welcome
END:VEVENT
END:VCALENDAR
