BEGIN:VCALENDAR
VERSION:2.0
PRODID:-//www.thearcofsomerset.org//NONSGML kigkonsult.se iCalcreator 2.30.
 10//
CALSCALE:GREGORIAN
METHOD:PUBLISH
UID:0973e718-5ef2-4c2c-a5dc-59ecd63d8f9b
X-WR-CALDESC:
X-WR-RELCALID:ecf9fc575c1cf54cacb16056f97147d1
X-WR-TIMEZONE:America/New_York
BEGIN:VTIMEZONE
TZID:America/New_York
BEGIN:STANDARD
TZNAME:EST
DTSTART:20201101T020000
TZOFFSETFROM:-0400
TZOFFSETTO:-0500
RDATE:20211107T020000
RDATE:20221106T020000
END:STANDARD
BEGIN:DAYLIGHT
TZNAME:EDT
DTSTART:20210314T020000
TZOFFSETFROM:-0500
TZOFFSETTO:-0400
RDATE:20220313T020000
RDATE:20230312T020000
END:DAYLIGHT
END:VTIMEZONE
BEGIN:VEVENT
UID:8e664beb-48c6-4eb5-b08c-85224e8b027d
DTSTAMP:20260425T152647Z
DESCRIPTION:
DTSTART;TZID=America/New_York:20210916T111500
DTEND;TZID=America/New_York:20210916T114500
LOCATION:
SUMMARY:11:15-11:45: Literacy Class – all welcome
END:VEVENT
END:VCALENDAR
