BEGIN:VCALENDAR
VERSION:2.0
PRODID:-//www.thearcofsomerset.org//NONSGML kigkonsult.se iCalcreator 2.30.
 10//
CALSCALE:GREGORIAN
METHOD:PUBLISH
UID:79d6dcdf-3e8f-44dd-b58e-6180cbddc2b5
X-WR-CALDESC:
X-WR-RELCALID:7e5de9db3b48b69dced0c2011123fe24
X-WR-TIMEZONE:America/New_York
BEGIN:VTIMEZONE
TZID:America/New_York
BEGIN:STANDARD
TZNAME:EST
DTSTART:20201101T020000
TZOFFSETFROM:-0400
TZOFFSETTO:-0500
RDATE:20211107T020000
RDATE:20221106T020000
END:STANDARD
BEGIN:DAYLIGHT
TZNAME:EDT
DTSTART:20210314T020000
TZOFFSETFROM:-0500
TZOFFSETTO:-0400
RDATE:20220313T020000
RDATE:20230312T020000
END:DAYLIGHT
END:VTIMEZONE
BEGIN:VEVENT
UID:93b0449f-e7b2-4063-ab8d-95883c72fb3e
DTSTAMP:20260425T153044Z
DESCRIPTION:
DTSTART;TZID=America/New_York:20210917T100000
DTEND;TZID=America/New_York:20210917T103000
LOCATION:
SUMMARY:10:00-10:30: BINGO with Mary – all welcome
END:VEVENT
END:VCALENDAR
