BEGIN:VCALENDAR
VERSION:2.0
PRODID:-//www.thearcofsomerset.org//NONSGML kigkonsult.se iCalcreator 2.30.
 10//
CALSCALE:GREGORIAN
METHOD:PUBLISH
UID:7e0930a0-aa88-4462-a164-661ce7414cb8
X-WR-CALDESC:Outside at Commons & virtual
X-WR-RELCALID:353fa3117c2abc749a0bafb49221d42f
X-WR-TIMEZONE:America/New_York
BEGIN:VTIMEZONE
TZID:America/New_York
BEGIN:STANDARD
TZNAME:EST
DTSTART:20201101T020000
TZOFFSETFROM:-0400
TZOFFSETTO:-0500
RDATE:20211107T020000
RDATE:20221106T020000
END:STANDARD
BEGIN:DAYLIGHT
TZNAME:EDT
DTSTART:20210314T020000
TZOFFSETFROM:-0500
TZOFFSETTO:-0400
RDATE:20220313T020000
RDATE:20230312T020000
END:DAYLIGHT
END:VTIMEZONE
BEGIN:VEVENT
UID:2100ccd1-d44c-41f5-87fa-b31757bda125
DTSTAMP:20260425T154835Z
DESCRIPTION:Outside at Commons & virtual
DTSTART;TZID=America/New_York:20210920T130000
DTEND;TZID=America/New_York:20210920T133000
LOCATION:
SUMMARY:1:00-1:30: Royal School of Yoga
END:VEVENT
END:VCALENDAR
