BEGIN:VCALENDAR
VERSION:2.0
PRODID:-//www.thearcofsomerset.org//NONSGML kigkonsult.se iCalcreator 2.30.
 10//
CALSCALE:GREGORIAN
METHOD:PUBLISH
UID:eba36fe7-103f-45e6-a5cf-25f46e29f71e
X-WR-CALDESC:
X-WR-RELCALID:175f1d8e34a59e2ba0f407e17c0d1381
X-WR-TIMEZONE:America/New_York
BEGIN:VTIMEZONE
TZID:America/New_York
BEGIN:STANDARD
TZNAME:EST
DTSTART:20201101T020000
TZOFFSETFROM:-0400
TZOFFSETTO:-0500
RDATE:20211107T020000
RDATE:20221106T020000
END:STANDARD
BEGIN:DAYLIGHT
TZNAME:EDT
DTSTART:20210314T020000
TZOFFSETFROM:-0500
TZOFFSETTO:-0400
RDATE:20220313T020000
RDATE:20230312T020000
END:DAYLIGHT
END:VTIMEZONE
BEGIN:VEVENT
UID:d38e284a-d3b2-4699-bd97-9289641d0a96
DTSTAMP:20260425T154558Z
DESCRIPTION:
DTSTART;TZID=America/New_York:20210920T111500
DTEND;TZID=America/New_York:20210920T114500
LOCATION:
SUMMARY:11:15-11:45: Stressbusters
END:VEVENT
END:VCALENDAR
