BEGIN:VCALENDAR
VERSION:2.0
PRODID:-//www.thearcofsomerset.org//NONSGML kigkonsult.se iCalcreator 2.30.
 10//
CALSCALE:GREGORIAN
METHOD:PUBLISH
UID:a17d47ea-4bf4-47d7-8f45-67cfecfafbac
X-WR-CALDESC:Outside at JCATC & virtual:  The Coffeehouse Project
X-WR-RELCALID:034789c99dafc8cc40aa5dac6b65c6cf
X-WR-TIMEZONE:America/New_York
BEGIN:VTIMEZONE
TZID:America/New_York
BEGIN:STANDARD
TZNAME:EST
DTSTART:20201101T020000
TZOFFSETFROM:-0400
TZOFFSETTO:-0500
RDATE:20211107T020000
RDATE:20221106T020000
END:STANDARD
BEGIN:DAYLIGHT
TZNAME:EDT
DTSTART:20210314T020000
TZOFFSETFROM:-0500
TZOFFSETTO:-0400
RDATE:20220313T020000
RDATE:20230312T020000
END:DAYLIGHT
END:VTIMEZONE
BEGIN:VEVENT
UID:b0c45715-2835-433f-aaca-bcfda9787ab5
DTSTAMP:20260425T154830Z
DESCRIPTION:Outside at JCATC & virtual:  The Coffeehouse Project
DTSTART;TZID=America/New_York:20210921T130000
DTEND;TZID=America/New_York:20210921T133000
LOCATION:
SUMMARY:1:00-1:30: Music for Hope & Inspiration
END:VEVENT
END:VCALENDAR
