BEGIN:VCALENDAR
VERSION:2.0
PRODID:-//www.thearcofsomerset.org//NONSGML kigkonsult.se iCalcreator 2.30.
 10//
CALSCALE:GREGORIAN
METHOD:PUBLISH
UID:569de984-988e-47bb-8ef1-d98caf3a6a90
X-WR-CALDESC:
X-WR-RELCALID:3c99eddd9d6348d6614e2697b7eeec1d
X-WR-TIMEZONE:America/New_York
BEGIN:VTIMEZONE
TZID:America/New_York
BEGIN:STANDARD
TZNAME:EST
DTSTART:20201101T020000
TZOFFSETFROM:-0400
TZOFFSETTO:-0500
RDATE:20211107T020000
RDATE:20221106T020000
END:STANDARD
BEGIN:DAYLIGHT
TZNAME:EDT
DTSTART:20210314T020000
TZOFFSETFROM:-0500
TZOFFSETTO:-0400
RDATE:20220313T020000
RDATE:20230312T020000
END:DAYLIGHT
END:VTIMEZONE
BEGIN:VEVENT
UID:be0ce34a-75a1-4e0e-9b2e-5c815c346eab
DTSTAMP:20260425T152624Z
DESCRIPTION:
DTSTART;TZID=America/New_York:20210921T150000
DTEND;TZID=America/New_York:20210921T160000
LOCATION:
SUMMARY:3:30-4:00: Shooting the Breeze with Friends
END:VEVENT
END:VCALENDAR
