BEGIN:VCALENDAR
VERSION:2.0
PRODID:-//www.thearcofsomerset.org//NONSGML kigkonsult.se iCalcreator 2.30.
 10//
CALSCALE:GREGORIAN
METHOD:PUBLISH
UID:a88a01f3-dcec-4455-a207-105f595c001e
X-WR-CALDESC:
X-WR-RELCALID:cb4d7fee04e5b46fe8b5840940a15aa6
X-WR-TIMEZONE:America/New_York
BEGIN:VTIMEZONE
TZID:America/New_York
BEGIN:STANDARD
TZNAME:EST
DTSTART:20201101T020000
TZOFFSETFROM:-0400
TZOFFSETTO:-0500
RDATE:20211107T020000
RDATE:20221106T020000
END:STANDARD
BEGIN:DAYLIGHT
TZNAME:EDT
DTSTART:20210314T020000
TZOFFSETFROM:-0500
TZOFFSETTO:-0400
RDATE:20220313T020000
RDATE:20230312T020000
END:DAYLIGHT
END:VTIMEZONE
BEGIN:VEVENT
UID:0787a36d-04c5-4289-b066-bba544acfa26
DTSTAMP:20260425T152549Z
DESCRIPTION:
DTSTART;TZID=America/New_York:20210922T100000
DTEND;TZID=America/New_York:20210922T103000
LOCATION:
SUMMARY:10:00-10:30: Literacy Class – all welcome
END:VEVENT
END:VCALENDAR
