BEGIN:VCALENDAR
VERSION:2.0
PRODID:-//www.thearcofsomerset.org//NONSGML kigkonsult.se iCalcreator 2.30.
 10//
CALSCALE:GREGORIAN
METHOD:PUBLISH
UID:a225b7b5-4db8-4e09-bb73-388aca38a527
X-WR-CALDESC:
X-WR-RELCALID:21a49a7649ad3dd4819d7fae7c7d343a
X-WR-TIMEZONE:America/New_York
BEGIN:VTIMEZONE
TZID:America/New_York
BEGIN:STANDARD
TZNAME:EST
DTSTART:20201101T020000
TZOFFSETFROM:-0400
TZOFFSETTO:-0500
RDATE:20211107T020000
RDATE:20221106T020000
END:STANDARD
BEGIN:DAYLIGHT
TZNAME:EDT
DTSTART:20210314T020000
TZOFFSETFROM:-0500
TZOFFSETTO:-0400
RDATE:20220313T020000
RDATE:20230312T020000
END:DAYLIGHT
END:VTIMEZONE
BEGIN:VEVENT
UID:4574d8e2-ec8d-40da-a019-97f4f5d19e11
DTSTAMP:20260425T154739Z
DESCRIPTION:
DTSTART;TZID=America/New_York:20210922T111500
DTEND;TZID=America/New_York:20210922T234500
LOCATION:
SUMMARY:11:15-11:45: Literacy Class – all welcome
END:VEVENT
END:VCALENDAR
