BEGIN:VCALENDAR
VERSION:2.0
PRODID:-//www.thearcofsomerset.org//NONSGML kigkonsult.se iCalcreator 2.30.
 10//
CALSCALE:GREGORIAN
METHOD:PUBLISH
UID:e1fd8ce1-8745-462a-ac56-b95de7994352
X-WR-CALDESC:
X-WR-RELCALID:8db024a59a6687e1960b4885cb14532d
X-WR-TIMEZONE:America/New_York
BEGIN:VTIMEZONE
TZID:America/New_York
BEGIN:STANDARD
TZNAME:EST
DTSTART:20201101T020000
TZOFFSETFROM:-0400
TZOFFSETTO:-0500
RDATE:20211107T020000
RDATE:20221106T020000
END:STANDARD
BEGIN:DAYLIGHT
TZNAME:EDT
DTSTART:20210314T020000
TZOFFSETFROM:-0500
TZOFFSETTO:-0400
RDATE:20220313T020000
RDATE:20230312T020000
END:DAYLIGHT
END:VTIMEZONE
BEGIN:VEVENT
UID:84abd622-acea-4ea5-aace-3a7f9a6a2d9b
DTSTAMP:20260425T152549Z
DESCRIPTION:
DTSTART;TZID=America/New_York:20210923T111500
DTEND;TZID=America/New_York:20210923T114500
LOCATION:
SUMMARY:11:15-11:45: Literacy Class – all welcome
END:VEVENT
END:VCALENDAR
