BEGIN:VCALENDAR
VERSION:2.0
PRODID:-//www.thearcofsomerset.org//NONSGML kigkonsult.se iCalcreator 2.30.
 10//
CALSCALE:GREGORIAN
METHOD:PUBLISH
UID:6b9696ee-6ee5-46df-a2bd-4a282a6e4eb3
X-WR-CALDESC:
X-WR-RELCALID:700c46c0e753e2393c2831085626db1a
X-WR-TIMEZONE:America/New_York
BEGIN:VTIMEZONE
TZID:America/New_York
BEGIN:STANDARD
TZNAME:EST
DTSTART:20201101T020000
TZOFFSETFROM:-0400
TZOFFSETTO:-0500
RDATE:20211107T020000
RDATE:20221106T020000
END:STANDARD
BEGIN:DAYLIGHT
TZNAME:EDT
DTSTART:20210314T020000
TZOFFSETFROM:-0500
TZOFFSETTO:-0400
RDATE:20220313T020000
RDATE:20230312T020000
END:DAYLIGHT
END:VTIMEZONE
BEGIN:VEVENT
UID:41f56b3d-3e9b-4ff0-b1b3-18343dcf735c
DTSTAMP:20260425T154709Z
DESCRIPTION:
DTSTART;TZID=America/New_York:20210924T100000
DTEND;TZID=America/New_York:20210924T103000
LOCATION:
SUMMARY:10:00-10:30: BINGO with Mary – all welcome
END:VEVENT
END:VCALENDAR
