BEGIN:VCALENDAR
VERSION:2.0
PRODID:-//www.thearcofsomerset.org//NONSGML kigkonsult.se iCalcreator 2.30.
 10//
CALSCALE:GREGORIAN
METHOD:PUBLISH
UID:12a4a13d-266e-42be-ae05-5ce4deb144b7
X-WR-CALDESC:Outside at Commons & virtual
X-WR-RELCALID:caf56c5cb3c9f931aa4aaf880d924ba0
X-WR-TIMEZONE:America/New_York
BEGIN:VTIMEZONE
TZID:America/New_York
BEGIN:STANDARD
TZNAME:EST
DTSTART:20201101T020000
TZOFFSETFROM:-0400
TZOFFSETTO:-0500
RDATE:20211107T020000
RDATE:20221106T020000
END:STANDARD
BEGIN:DAYLIGHT
TZNAME:EDT
DTSTART:20210314T020000
TZOFFSETFROM:-0500
TZOFFSETTO:-0400
RDATE:20220313T020000
RDATE:20230312T020000
END:DAYLIGHT
END:VTIMEZONE
BEGIN:VEVENT
UID:0656f89c-1c96-490b-9416-0feda7874481
DTSTAMP:20260425T153722Z
DESCRIPTION:Outside at Commons & virtual
DTSTART;TZID=America/New_York:20210927T130000
DTEND;TZID=America/New_York:20210927T133000
LOCATION:
SUMMARY:1:00-1:30: Royal School of Yoga
END:VEVENT
END:VCALENDAR
