BEGIN:VCALENDAR
VERSION:2.0
PRODID:-//www.thearcofsomerset.org//NONSGML kigkonsult.se iCalcreator 2.30.
 10//
CALSCALE:GREGORIAN
METHOD:PUBLISH
UID:8c482088-2f78-4a07-a224-bf9dee7a25bc
X-WR-CALDESC:
X-WR-RELCALID:c91a3055428d6ef62dace6f51553f06f
X-WR-TIMEZONE:America/New_York
BEGIN:VTIMEZONE
TZID:America/New_York
BEGIN:STANDARD
TZNAME:EST
DTSTART:20201101T020000
TZOFFSETFROM:-0400
TZOFFSETTO:-0500
RDATE:20211107T020000
RDATE:20221106T020000
END:STANDARD
BEGIN:DAYLIGHT
TZNAME:EDT
DTSTART:20210314T020000
TZOFFSETFROM:-0500
TZOFFSETTO:-0400
RDATE:20220313T020000
RDATE:20230312T020000
END:DAYLIGHT
END:VTIMEZONE
BEGIN:VEVENT
UID:7adf416a-9d1e-4b1a-ab2c-31c388a39a98
DTSTAMP:20260425T152759Z
DESCRIPTION:
DTSTART;TZID=America/New_York:20210927T100000
DTEND;TZID=America/New_York:20210927T103000
LOCATION:
SUMMARY:10:00-10:30: BINGO with Mary – all welcome
END:VEVENT
END:VCALENDAR
