BEGIN:VCALENDAR
VERSION:2.0
PRODID:-//www.thearcofsomerset.org//NONSGML kigkonsult.se iCalcreator 2.30.
 10//
CALSCALE:GREGORIAN
METHOD:PUBLISH
UID:2b3caf45-4685-4282-b2ce-e80dfcc63501
X-WR-CALDESC:Outside at JCATC & virtual:\nVinnie & his many musical instrum
 ents\n
X-WR-RELCALID:c3ec659d1484117add90ebccb9012bf4
X-WR-TIMEZONE:America/New_York
BEGIN:VTIMEZONE
TZID:America/New_York
BEGIN:STANDARD
TZNAME:EST
DTSTART:20201101T020000
TZOFFSETFROM:-0400
TZOFFSETTO:-0500
RDATE:20211107T020000
RDATE:20221106T020000
END:STANDARD
BEGIN:DAYLIGHT
TZNAME:EDT
DTSTART:20210314T020000
TZOFFSETFROM:-0500
TZOFFSETTO:-0400
RDATE:20220313T020000
RDATE:20230312T020000
END:DAYLIGHT
END:VTIMEZONE
BEGIN:VEVENT
UID:512172cd-5063-4bfa-9c4a-03564a24410a
DTSTAMP:20260425T153441Z
DESCRIPTION:Outside at JCATC & virtual:\nVinnie & his many musical instrume
 nts\n
DTSTART;TZID=America/New_York:20210928T130000
DTEND;TZID=America/New_York:20210928T133000
LOCATION:
SUMMARY:1:00-1:30: Music for Hope & Inspiration                     Outside
  at JCATC & virtual:                          Vinnie & his many musical in
 struments
END:VEVENT
END:VCALENDAR
