BEGIN:VCALENDAR
VERSION:2.0
PRODID:-//www.thearcofsomerset.org//NONSGML kigkonsult.se iCalcreator 2.30.
 10//
CALSCALE:GREGORIAN
METHOD:PUBLISH
UID:9523fad3-4e90-4b6f-b834-bb989f47d4bc
X-WR-CALDESC:
X-WR-RELCALID:8266d67b581d503e2312ad0f9459cf94
X-WR-TIMEZONE:America/New_York
BEGIN:VTIMEZONE
TZID:America/New_York
BEGIN:STANDARD
TZNAME:EST
DTSTART:20201101T020000
TZOFFSETFROM:-0400
TZOFFSETTO:-0500
RDATE:20211107T020000
RDATE:20221106T020000
END:STANDARD
BEGIN:DAYLIGHT
TZNAME:EDT
DTSTART:20210314T020000
TZOFFSETFROM:-0500
TZOFFSETTO:-0400
RDATE:20220313T020000
RDATE:20230312T020000
END:DAYLIGHT
END:VTIMEZONE
BEGIN:VEVENT
UID:1029e2fe-c2d0-4441-b7f2-8feb5ba489e9
DTSTAMP:20260425T152921Z
DESCRIPTION:
DTSTART;TZID=America/New_York:20210928T153000
DTEND;TZID=America/New_York:20210928T163000
LOCATION:
SUMMARY:3:30-4:00: Shooting the Breeze with Friends
END:VEVENT
END:VCALENDAR
